BEGIN:VCALENDAR
VERSION:2.0
PRODID:-//Cocriagro - Hub de Inovação - ECPv6.13.2.1//NONSGML v1.0//EN
CALSCALE:GREGORIAN
METHOD:PUBLISH
X-ORIGINAL-URL:https://cocriagro.com.br
X-WR-CALDESC:Eventos para Cocriagro - Hub de Inovação
REFRESH-INTERVAL;VALUE=DURATION:PT1H
X-Robots-Tag:noindex
X-PUBLISHED-TTL:PT1H
BEGIN:VTIMEZONE
TZID:America/Sao_Paulo
BEGIN:STANDARD
TZOFFSETFROM:-0300
TZOFFSETTO:-0300
TZNAME:-03
DTSTART:20230101T000000
END:STANDARD
END:VTIMEZONE
BEGIN:VEVENT
DTSTART;TZID=America/Sao_Paulo:20231107T140000
DTEND;TZID=America/Sao_Paulo:20231107T170000
DTSTAMP:20260425T152840
CREATED:20230803T114615Z
LAST-MODIFIED:20230803T114615Z
UID:3821-1699365600-1699376400@cocriagro.com.br
SUMMARY:10º Encontro de Gestores de TIC e Inovação das Empresas do Agro
DESCRIPTION:Programação em Breve!
URL:https://cocriagro.com.br/eventos/10o-encontro-de-gestores-de-tic-e-inovacao-das-empresas-do-agro/
LOCATION:Parque de Exposições Governador Ney Braga\, Av. Tiradentes\, 6275 - Cilo II\, Londrina\, Paraná\, 86072-000\, Brasil
ATTACH;FMTTYPE=image/jpeg:https://cocriagro.com.br/wp-content/uploads/2023/08/Imagem-do-WhatsApp-de-2023-08-03-as-08.31.03.jpg
END:VEVENT
END:VCALENDAR