BEGIN:VCALENDAR
VERSION:2.0
PRODID:-//Cocriagro - Hub de Inovação - ECPv6.13.2.1//NONSGML v1.0//EN
CALSCALE:GREGORIAN
METHOD:PUBLISH
X-ORIGINAL-URL:https://cocriagro.com.br
X-WR-CALDESC:Eventos para Cocriagro - Hub de Inovação
REFRESH-INTERVAL;VALUE=DURATION:PT1H
X-Robots-Tag:noindex
X-PUBLISHED-TTL:PT1H
BEGIN:VTIMEZONE
TZID:America/Sao_Paulo
BEGIN:STANDARD
TZOFFSETFROM:-0300
TZOFFSETTO:-0300
TZNAME:-03
DTSTART:20230101T000000
END:STANDARD
END:VTIMEZONE
BEGIN:VEVENT
DTSTART;TZID=America/Sao_Paulo:20230823T080000
DTEND;TZID=America/Sao_Paulo:20230825T170000
DTSTAMP:20260425T221240
CREATED:20230717T120744Z
LAST-MODIFIED:20230717T120744Z
UID:3782-1692777600-1692982800@cocriagro.com.br
SUMMARY:V Congresso Nacional de Direito Agrário
DESCRIPTION:Venha participar do V Congresso Nacional de Direito Agrário\, o maior evento sobre o tema no Brasil\, que acontecerá no Parque Ney Braga\, em Londrina\, de 23 a 25 de agosto. Você vai aprender com os maiores especialistas do país sobre os desafios e as oportunidades do Direito Agrário para o desenvolvimento do agronegócio brasileiro. Não perca essa chance de ampliar seus conhecimentos e fazer networking com profissionais da área. \nColoque na sua agenda \nMais informações sobre o evento no site oficial \nPara conferir outros eventos acesse nossa agenda
URL:https://cocriagro.com.br/eventos/v-congresso-nacional-de-direito-agrario-2/
LOCATION:Parque de Exposições Governador Ney Braga\, Av. Tiradentes\, 6275 - Cilo II\, Londrina\, Paraná\, 86072-000\, Brasil
ATTACH;FMTTYPE=image/jpeg:https://cocriagro.com.br/wp-content/uploads/2023/07/WhatsApp-Image-2023-07-14-at-12.13.27-1.jpeg
END:VEVENT
END:VCALENDAR