BEGIN:VCALENDAR
VERSION:2.0
PRODID:-//Cocriagro - Hub de Inovação - ECPv6.13.2.1//NONSGML v1.0//EN
CALSCALE:GREGORIAN
METHOD:PUBLISH
X-WR-CALNAME:Cocriagro - Hub de Inovação
X-ORIGINAL-URL:https://cocriagro.com.br
X-WR-CALDESC:Eventos para Cocriagro - Hub de Inovação
REFRESH-INTERVAL;VALUE=DURATION:PT1H
X-Robots-Tag:noindex
X-PUBLISHED-TTL:PT1H
BEGIN:VTIMEZONE
TZID:America/Sao_Paulo
BEGIN:STANDARD
TZOFFSETFROM:-0300
TZOFFSETTO:-0300
TZNAME:-03
DTSTART:20230101T000000
END:STANDARD
END:VTIMEZONE
BEGIN:VEVENT
DTSTART;TZID=America/Sao_Paulo:20231004T090000
DTEND;TZID=America/Sao_Paulo:20231004T110000
DTSTAMP:20260424T074556
CREATED:20230918T213759Z
LAST-MODIFIED:20230918T213759Z
UID:4022-1696410000-1696417200@cocriagro.com.br
SUMMARY:Como captar recursos para projetos de inovação
DESCRIPTION:Treinamento Imperdível: Como Captar Recursos para Projetos de Inovação no Agro! \nVocê sabia que existem diversas oportunidades de fomento para impulsionar a inovação no agronegócio? Descubra todas elas com a expertise da nossa Head de Inovação\, Tatiana Fiuza. 🌟🌿 \nParticipe e esteja à frente das melhores práticas para alavancar seus projetos inovadores no agro! 🛠️🚜 \n#InovaçãoNoAgro #CaptaçãoDeRecursos #Treinamento #Cocriagro #Agronegócio
URL:https://cocriagro.com.br/eventos/como-captar-recursos-para-projetos-de-inovacao/
LOCATION:SEBRAE – LONDRINA\, Av. Santos Dumont\, 1335 - Bairro Aeroporto\, Londrina\, Paraná\, Brasil
CATEGORIES:Palestra
ATTACH;FMTTYPE=image/jpeg:https://cocriagro.com.br/wp-content/uploads/2023/09/WhatsApp-Image-2023-09-18-at-17.27.00.jpeg
END:VEVENT
END:VCALENDAR