BEGIN:VCALENDAR
VERSION:2.0
PRODID:-//Cocriagro - Hub de Inovação - ECPv6.13.2.1//NONSGML v1.0//EN
CALSCALE:GREGORIAN
METHOD:PUBLISH
X-WR-CALNAME:Cocriagro - Hub de Inovação
X-ORIGINAL-URL:https://cocriagro.com.br
X-WR-CALDESC:Eventos para Cocriagro - Hub de Inovação
REFRESH-INTERVAL;VALUE=DURATION:PT1H
X-Robots-Tag:noindex
X-PUBLISHED-TTL:PT1H
BEGIN:VTIMEZONE
TZID:America/Sao_Paulo
BEGIN:STANDARD
TZOFFSETFROM:-0300
TZOFFSETTO:-0300
TZNAME:-03
DTSTART:20230101T000000
END:STANDARD
END:VTIMEZONE
BEGIN:VEVENT
DTSTART;VALUE=DATE:20231107
DTEND;VALUE=DATE:20231109
DTSTAMP:20260424T055632
CREATED:20230525T195035Z
LAST-MODIFIED:20230525T195035Z
UID:3580-1699315200-1699487999@cocriagro.com.br
SUMMARY:AGROBIT 2023
DESCRIPTION:AgroBIT Brasil 2023 \nQuero fazer um convite especial para você participar de mais uma edição do Agrobit\, evento é realizado pela FBgroup eventos\, Sociedade Rural do Paraná\, Sebrae e AgroValley\, com o objetivo de divulgação de inovações\, serviços\, produtos\, além de grandes parcerias entre setores do Agronegócio Brasileiro. \nAcontecerá dia 07 e 08 de novembro. \nColoque na sua agenda \nMais informações sobre o evento no site oficial \nPara conferir outros eventos acesse nossa agenda
URL:https://cocriagro.com.br/eventos/agrobit-brasil/
LOCATION:Parque de Exposições Governador Ney Braga\, Av. Tiradentes\, 6275 - Cilo II\, Londrina\, Paraná\, 86072-000\, Brasil
ATTACH;FMTTYPE=image/jpeg:https://cocriagro.com.br/wp-content/uploads/2023/05/Agrobit-Brasil.jpeg
ORGANIZER;CN="FBGroup":MAILTO:contato@fbgroup.agr.br
END:VEVENT
END:VCALENDAR