BEGIN:VCALENDAR
VERSION:2.0
PRODID:-//Cocriagro - Hub de Inovação - ECPv6.13.2.1//NONSGML v1.0//EN
CALSCALE:GREGORIAN
METHOD:PUBLISH
X-ORIGINAL-URL:https://cocriagro.com.br
X-WR-CALDESC:Eventos para Cocriagro - Hub de Inovação
REFRESH-INTERVAL;VALUE=DURATION:PT1H
X-Robots-Tag:noindex
X-PUBLISHED-TTL:PT1H
BEGIN:VTIMEZONE
TZID:America/Sao_Paulo
BEGIN:STANDARD
TZOFFSETFROM:-0300
TZOFFSETTO:-0300
TZNAME:-03
DTSTART:20230101T000000
END:STANDARD
END:VTIMEZONE
BEGIN:VEVENT
DTSTART;VALUE=DATE:20230620
DTEND;VALUE=DATE:20230622
DTSTAMP:20260425T184943
CREATED:20230515T202706Z
LAST-MODIFIED:20230525T185315Z
UID:3476-1687219200-1687391999@cocriagro.com.br
SUMMARY:World Agri-Tech South America Summit 2023
DESCRIPTION:World Agri-Tech South America Summit 2023 \nWorld Agri-Tech’s dedicated event to South America returns to São Paulo\, Brazil on June 20-21 to spotlight the vast potential the region has to offer in scaling innovation and in driving the global transition to sustainable and climate-smart farming practices. \nFor more information about the event \nTo check out other events visit our calendar
URL:https://cocriagro.com.br/eventos/world-agri-tech-south-america-summit-2023/
LOCATION:São Paulo\, Brasil
ATTACH;FMTTYPE=image/png:https://cocriagro.com.br/wp-content/uploads/2023/05/world-agri-tech-south-america-summit-1.png
ORGANIZER;CN="Kethink Events":MAILTO:tom.bennett@rethinkevents.com
END:VEVENT
END:VCALENDAR