BEGIN:VCALENDAR
VERSION:2.0
PRODID:-//Cocriagro - Hub de Inovação - ECPv6.13.2.1//NONSGML v1.0//EN
CALSCALE:GREGORIAN
METHOD:PUBLISH
X-WR-CALNAME:Cocriagro - Hub de Inovação
X-ORIGINAL-URL:https://cocriagro.com.br
X-WR-CALDESC:Eventos para Cocriagro - Hub de Inovação
REFRESH-INTERVAL;VALUE=DURATION:PT1H
X-Robots-Tag:noindex
X-PUBLISHED-TTL:PT1H
BEGIN:VTIMEZONE
TZID:America/Sao_Paulo
BEGIN:STANDARD
TZOFFSETFROM:-0300
TZOFFSETTO:-0300
TZNAME:-03
DTSTART:20230101T000000
END:STANDARD
END:VTIMEZONE
BEGIN:VEVENT
DTSTART;TZID=America/Sao_Paulo:20230724T160000
DTEND;TZID=America/Sao_Paulo:20230724T170000
DTSTAMP:20260425T113536
CREATED:20230714T134658Z
LAST-MODIFIED:20230714T134658Z
UID:3778-1690214400-1690218000@cocriagro.com.br
SUMMARY:Mulheres Inovadoras
DESCRIPTION:O Programa Mulheres Inovadoras é uma oportunidade única para startups lideradas por mulheres que buscam aceleração\, mentoria e premiação em dinheiro. O programa é uma iniciativa do MCTI e da FINEP\, que visa apoiar o empreendedorismo feminino no Brasil. As inscrições estão abertas até o dia 04 de agosto e podem participar startups de qualquer segmento que não faturem mais de R$ 4\,8 milhões. Não perca essa chance de impulsionar o seu negócio e se inscreva já! \nVenha conhecer mais sobre o edital no dia 24/07 às 16 horas com a Tatiana Fiuza e a Finep! \nPara mais informações sobre o evento \nPara conferir outros eventos acesse nossa agenda
URL:https://cocriagro.com.br/eventos/mulheres-inovadoras/
ATTACH;FMTTYPE=image/jpeg:https://cocriagro.com.br/wp-content/uploads/2023/07/WhatsApp-Image-2023-07-14-at-09.37.45.jpeg
END:VEVENT
END:VCALENDAR