BEGIN:VCALENDAR
VERSION:2.0
PRODID:-//Cocriagro - Hub de Inovação - ECPv6.13.2.1//NONSGML v1.0//EN
CALSCALE:GREGORIAN
METHOD:PUBLISH
X-WR-CALNAME:Cocriagro - Hub de Inovação
X-ORIGINAL-URL:https://cocriagro.com.br
X-WR-CALDESC:Eventos para Cocriagro - Hub de Inovação
REFRESH-INTERVAL;VALUE=DURATION:PT1H
X-Robots-Tag:noindex
X-PUBLISHED-TTL:PT1H
BEGIN:VTIMEZONE
TZID:America/Sao_Paulo
BEGIN:STANDARD
TZOFFSETFROM:-0300
TZOFFSETTO:-0300
TZNAME:-03
DTSTART:20230101T000000
END:STANDARD
END:VTIMEZONE
BEGIN:VEVENT
DTSTART;VALUE=DATE:20230526
DTEND;VALUE=DATE:20230529
DTSTAMP:20260422T212427
CREATED:20230515T194735Z
LAST-MODIFIED:20230803T130113Z
UID:3457-1685059200-1685318399@cocriagro.com.br
SUMMARY:Hackathon Green Tech Ambiental 2023
DESCRIPTION:Hackathon Green Tech Ambiental 2023 \nQuero fazer um convite para você que é interessado em preservar o meio ambiente e em tecnologia e inovação. \nTeremos em 26 a 28 de maio o Hackathon Green Tech Ambiental 2023. Evento que trará diversos debates\, oportunidades\, e principalmente as inovações do setor ambiental. \nColoque na sua agenda \nPara mais informações sobre o evento no site oficial \nPara conferir outros eventos acesse nossa agenda \n 
URL:https://cocriagro.com.br/eventos/hackathon-green-tech-ambiental-2023/
LOCATION:Sede CEAL/Sinduscon\, Avenida Maringá\, 2400\, Construhub\, Vitoria\, Londrina\, Paraná\, 86060-000\, Brasil
ATTACH;FMTTYPE=image/jpeg:https://cocriagro.com.br/wp-content/uploads/2023/05/WhatsApp-Image-2023-05-15-at-16.15.49.jpeg
END:VEVENT
END:VCALENDAR