BEGIN:VCALENDAR
VERSION:2.0
PRODID:-//Cocriagro - Hub de Inovação - ECPv6.13.2.1//NONSGML v1.0//EN
CALSCALE:GREGORIAN
METHOD:PUBLISH
X-ORIGINAL-URL:https://cocriagro.com.br
X-WR-CALDESC:Eventos para Cocriagro - Hub de Inovação
REFRESH-INTERVAL;VALUE=DURATION:PT1H
X-Robots-Tag:noindex
X-PUBLISHED-TTL:PT1H
BEGIN:VTIMEZONE
TZID:America/Sao_Paulo
BEGIN:STANDARD
TZOFFSETFROM:-0300
TZOFFSETTO:-0300
TZNAME:-03
DTSTART:20230101T000000
END:STANDARD
END:VTIMEZONE
BEGIN:VEVENT
DTSTART;VALUE=DATE:20230727
DTEND;VALUE=DATE:20230728
DTSTAMP:20260422T161917
CREATED:20230713T182626Z
LAST-MODIFIED:20230713T182737Z
UID:3761-1690416000-1690502399@cocriagro.com.br
SUMMARY:GO SRP
DESCRIPTION:Participe do GO SRP da Sociedade Rural do Paraná e inove no agronegócio Você tem uma ideia inovadora que pode transformar o agronegócio? Então não perca essa oportunidade de participar do 4º ciclo de aceleração de Startups da SRP\, um programa gratuito que busca soluções sustentáveis para o setor. As inscrições estão abertas até o dia 27 de julho. Saiba mais! \nO que é a Aceleradora de Startups da SRP? A Aceleradora de Startups da SRP é um programa gratuito que busca apoiar iniciativas inovadoras que contribuam para o desenvolvimento do agronegócio. O programa é realizado pela Sociedade Rural do Paraná\, em parceria com a Rumo\, a maior operadora de ferrovias do Brasil. As startups selecionadas terão acesso a mentorias\, capacitações\, networking e oportunidades de negócio. \nQuem pode participar? Podem participar startups de qualquer segmento de negócio que tenham soluções que colaborem para potencializar o agronegócio e tornar o setor ainda mais sustentável. \nComo se inscrever? Para se inscrever\, basta acessar o site da Aceleradora de Startups da SRP e preencher o formulário online. As inscrições são gratuitas e vão até o dia 27 de julho. \nNão perca essa chance de acelerar o seu negócio e inovar no agronegócio. Inscreva-se já na Aceleradora de Startups da SRP e faça parte dessa comunidade de empreendedores que estão transformando o setor. \nPara mais informações sobre o evento \nPara conferir outros eventos acesse nossa agenda \n 
URL:https://cocriagro.com.br/eventos/aceleracao-agro/
LOCATION:Parque de Exposições Governador Ney Braga\, Av. Tiradentes\, 6275 - Cilo II\, Londrina\, Paraná\, 86072-000\, Brasil
CATEGORIES:Programa de Aceleração
ATTACH;FMTTYPE=image/jpeg:https://cocriagro.com.br/wp-content/uploads/2023/07/WhatsApp-Image-2023-07-13-at-15.04.03.jpeg
ORGANIZER;CN="Sociedade Rural do Paran%C3%A1":MAILTO:srp@srp.com.br
END:VEVENT
END:VCALENDAR